BEGIN:VCALENDAR
VERSION:2.0
PRODID:icalendar-ruby
CALSCALE:GREGORIAN
METHOD:PUBLISH
BEGIN:VEVENT
DTSTAMP:20260421T013627Z
UID:23-364849@bethanylutheran166.tithelysetup5.com
DTSTART:20261027T140000Z
DTEND:20261027T170000Z
CLASS:PUBLIC
CREATED:20260420T195758
DESCRIPTION:
LAST-MODIFIED:20260420T195758
LOCATION:
SUMMARY:Office Hours
URL;VALUE=URI:https://dellsbethanychurch.org/events/office-hours/2026-10-27
END:VEVENT
END:VCALENDAR
