BEGIN:VCALENDAR
VERSION:2.0
PRODID:icalendar-ruby
CALSCALE:GREGORIAN
METHOD:PUBLISH
BEGIN:VEVENT
DTSTAMP:20260421T001808Z
UID:23-364421@bethanylutheran166.tithelysetup5.com
DTSTART:20261020T140000Z
DTEND:20261020T170000Z
CLASS:PUBLIC
CREATED:20260420T172307
DESCRIPTION:
LAST-MODIFIED:20260420T172307
LOCATION:
SUMMARY:Office Hours
URL;VALUE=URI:https://dellsbethanychurch.org/events/office-hours/2026-10-20
END:VEVENT
END:VCALENDAR
