BEGIN:VCALENDAR
VERSION:2.0
PRODID:icalendar-ruby
CALSCALE:GREGORIAN
METHOD:PUBLISH
BEGIN:VEVENT
DTSTAMP:20260424T222507Z
UID:24-374375@bethanylutheran166.tithelysetup5.com
DTSTART:20261104T150000Z
DTEND:20261104T180000Z
CLASS:PUBLIC
CREATED:20260424T154709
DESCRIPTION:
LAST-MODIFIED:20260424T154709
LOCATION:
SUMMARY:Office Hours
URL;VALUE=URI:https://dellsbethanychurch.org/events/office-hours--24/2026-1
 1-04
END:VEVENT
END:VCALENDAR
