BEGIN:VCALENDAR
VERSION:2.0
PRODID:icalendar-ruby
CALSCALE:GREGORIAN
METHOD:PUBLISH
BEGIN:VEVENT
DTSTAMP:20260424T183645Z
UID:24-373942@bethanylutheran166.tithelysetup5.com
DTSTART:20261014T140000Z
DTEND:20261014T170000Z
CLASS:PUBLIC
CREATED:20260424T125939
DESCRIPTION:
LAST-MODIFIED:20260424T125939
LOCATION:
SUMMARY:Office Hours
URL;VALUE=URI:https://dellsbethanychurch.org/events/office-hours--24/2026-1
 0-14
END:VEVENT
END:VCALENDAR
